BEGIN:VCALENDAR
VERSION:2.0
CREATED:20260409T201219Z
PRODID:-//ProMIS Neurosciences\, Inc./Equisolve Calendar v1.0//EN
METHOD:PUBLISH
BEGIN:VEVENT
UID:65bbda958902c1be4b5e9696c887d6f4
DTSTAMP:20260425T043140Z
DTSTART:20260520T143000Z
DTEND:20260520T153000Z
SUMMARY:2026 Annual Meeting of Stockholders
DESCRIPTION:2026 Annual Meeting of Stockholders
Date: May 20\, 2026 10:30 am EDT
Webcast: http://www.virtualshareholdermeeting.com/PMN2026
END:VEVENT
END:VCALENDAR
